Workbook
Name Print_Area: Meldung_Jury!$A$1:$X$28
Name Print_Area: Meldung_Teilnehmer!$A$1:$V$57
Name Print_Area: Meldung_Übernachtung!$A$1:$G$57

Sheet allg__Daten
A2: =Intern_Wettkampfdaten!B1 -> Bayerische Zwergerlmeisterschaft
A3: =Intern_Wettkampfdaten!B6 -> 14.11.2026
B5: Anmeldung
B7: Verein
B8: Ansprechpartner
B9: Straße
B10: Wohnort
B11: E-Mail Adresse
B12: Telefonnummer
B15: Meldegebühr: | C15: 10,- pro Einzelkür Teilnehmer 10,- pro Paarkür Teilnehmer 8,- pro Kleingruppenkür Teilnehmer 8,- pro Großgruppenkür Teilnehmer 6,- pro Gruppenkür Ersatzfahrer
B18: Meldeschluss: | C18: =TEXT(Intern_Wettkampfdaten!B11,"TT.MM.JJJJ")&" (Nachmeldungen sind nicht möglich)" -> 23.10.2026 (Nachmeldungen sind nicht möglich)
B20: Meldeadresse: | C20: =HYPERLINK("mailto:"&Intern_Wettkampfdaten!B12&"?subject="&Intern_Wettkampfdaten!B13&" "&C7,Intern_Wettkampfdaten!B12) -> freestyleanmeldung@gmx.de

Sheet Meldung_Teilnehmer
A2: =Intern_Wettkampfdaten!B1 -> Bayerische Zwergerlmeisterschaft
A3: =Intern_Wettkampfdaten!B6 -> 14.11.2026
A5: Fortlaufende Nr. | B5: Name | C5: Vorname | D5: Geschlecht [m/w] | E5: Geburtsdatum [TT/MM/JJJJ] | F5: Alter (am Wettkampftag) | H5: Standard Skill | J5: Einzelkür | L5: Paarkür | N5: Kleingruppe | Q5: Großgruppe | T5: Startgebühr | V5: Startgebühr über abweichenden Verein
G6: Workshoptag [ja/leer] | H6: Standard Skill [ja/leer] | I6: Aufgestellte Punktzahl (optional) | J6: Einzelkür [ja/leer] | K6: Kürname (optional) | L6: Paarkür [1-99/leer] | M6: Kürname (optional) | N6: Kleingruppe [KG1-KG9/leer] | O6: Ersatzfahrer [ja/leer] | P6: Kürname (optional) | Q6: Großgruppe [GG1-GG9/leer] | R6: Ersatzfahrer [ja/leer] | S6: Kürname (optional) | U6: abweichender Verein (optional) | Y6: Anzahl Küren / Starter
A7: 0 | B7: Mustermann | C7: Max | D7: m | E7: 38523 | F7: =IF(ISBLANK(E7)=FALSE(),DATEDIF(E7,Intern_Wettkampfdaten!$B$3,"Y"),"") -> 17 | G7: ja | H7: ja | I7: 23,1 | J7: ja | K7: Kürname Einzelkür | N7: 1 | O7: ja | P7: Kürname Kleingruppe | Q7: 1 | S7: Kürname Großgruppe | T7: 0
A8: =IF(ISBLANK(B8)=FALSE(),1,"") | F8: =IF(ISBLANK(E8)=FALSE(),DATEDIF(E8,Intern_Wettkampfdaten!$B$3,"Y"),"") | T8: =IF($G8>0,Intern_Wettkampfdaten!$B$30,0)+IF($H8>0,Intern_Wettkampfdaten!$B$24,0)+IF($J8="ja",Intern_Wettkampfdaten!$B$25,0)+IF($L8>0,Intern_Wettkampfdaten!$B$26,0)+IF($N8>0,Intern_Wettkampfdaten!$B$27,0)-IF($O8="ja",Intern_Wettkampfdaten!$B$29,0)+IF($Q8>0,Intern_Wettkampfdaten!$B$28,0)-IF($R8="ja",Intern_Wettkampfdaten!$B$29,0) -> 0 | W8: =IF(COUNTA(B8:E8,J8:S8,U8:V8)=0,"",IF(OR(COUNTBLANK(B8:E8)>0,COUNTA(J8,L8,N8,Q8)<1,AND(ISBLANK(J8),NOT(ISBLANK(K8))),AND(ISBLANK(L8),NOT(ISBLANK(M8))),AND(ISBLANK(N8),NOT(ISBLANK(P8))),AND(ISBLANK(Q8),NOT(ISBLANK(S8))),COUNTA(U8:V8)=1),"ERROR","OKAY")) | X8: =IF(J8="ja",Intern_Wettkampfdaten!$B$25,0)+IF(L8>0,Intern_Wettkampfdaten!$B$26,0)+IF(N8>0,Intern_Wettkampfdaten!$B$27,0)+IF(Q8>0,Intern_Wettkampfdaten!$B$28,0)+IF(R8="ja",Intern_Wettkampfdaten!$B$29,0) -> 0 | Y8: =COUNTA(J8,L8,N8,Q8) -> 0
A9: =IF(ISBLANK(B9)=FALSE(),COUNT(A8)+1,"") | F9: =IF(ISBLANK(E9)=FALSE(),DATEDIF(E9,Intern_Wettkampfdaten!$B$3,"Y"),"") | T9: =IF($G9>0,Intern_Wettkampfdaten!$B$30,0)+IF($H9>0,Intern_Wettkampfdaten!$B$24,0)+IF($J9="ja",Intern_Wettkampfdaten!$B$25,0)+IF($L9>0,Intern_Wettkampfdaten!$B$26,0)+IF($N9>0,Intern_Wettkampfdaten!$B$27,0)-IF($O9="ja",Intern_Wettkampfdaten!$B$29,0)+IF($Q9>0,Intern_Wettkampfdaten!$B$28,0)-IF($R9="ja",Intern_Wettkampfdaten!$B$29,0) -> 0 | W9: =IF(COUNTA(B9:E9,J9:S9,U9:V9)=0,"",IF(OR(COUNTBLANK(B9:E9)>0,COUNTA(J9,L9,N9,Q9)<1,AND(ISBLANK(J9),NOT(ISBLANK(K9))),AND(ISBLANK(L9),NOT(ISBLANK(M9))),AND(ISBLANK(N9),NOT(ISBLANK(P9))),AND(ISBLANK(Q9),NOT(ISBLANK(S9))),COUNTA(U9:V9)=1),"ERROR","OKAY")) | X9: =IF(J9="ja",Intern_Wettkampfdaten!$B$25,0)+IF(L9>0,Intern_Wettkampfdaten!$B$26,0)+IF(N9>0,Intern_Wettkampfdaten!$B$27,0)+IF(Q9>0,Intern_Wettkampfdaten!$B$28,0)+IF(R9="ja",Intern_Wettkampfdaten!$B$29,0) -> 0 | Y9: =COUNTA(J9,L9,N9,Q9) -> 0
A10: =IF(ISBLANK(B10)=FALSE(),COUNT(A$8:A9)+1,"") | F10: =IF(ISBLANK(E10)=FALSE(),DATEDIF(E10,Intern_Wettkampfdaten!$B$3,"Y"),"") | T10: =IF($G10>0,Intern_Wettkampfdaten!$B$30,0)+IF($H10>0,Intern_Wettkampfdaten!$B$24,0)+IF($J10="ja",Intern_Wettkampfdaten!$B$25,0)+IF($L10>0,Intern_Wettkampfdaten!$B$26,0)+IF($N10>0,Intern_Wettkampfdaten!$B$27,0)-IF($O10="ja",Intern_Wettkampfdaten!$B$29,0)+IF($Q10>0,Intern_Wettkampfdaten!$B$28,0)-IF($R10="ja",Intern_Wettkampfdaten!$B$29,0) -> 0 | W10: =IF(COUNTA(B10:E10,J10:S10,U10:V10)=0,"",IF(OR(COUNTBLANK(B10:E10)>0,COUNTA(J10,L10,N10,Q10)<1,AND(ISBLANK(J10),NOT(ISBLANK(K10))),AND(ISBLANK(L10),NOT(ISBLANK(M10))),AND(ISBLANK(N10),NOT(ISBLANK(P10))),AND(ISBLANK(Q10),NOT(ISBLANK(S10))),COUNTA(U10:V10)=1),"ERROR","OKAY")) | X10: =IF(J10="ja",Intern_Wettkampfdaten!$B$25,0)+IF(L10>0,Intern_Wettkampfdaten!$B$26,0)+IF(N10>0,Intern_Wettkampfdaten!$B$27,0)+IF(Q10>0,Intern_Wettkampfdaten!$B$28,0)+IF(R10="ja",Intern_Wettkampfdaten!$B$29,0) -> 0 | Y10: =COUNTA(J10,L10,N10,Q10) -> 0
A11: =IF(ISBLANK(B11)=FALSE(),COUNT(A$8:A10)+1,"") | F11: =IF(ISBLANK(E11)=FALSE(),DATEDIF(E11,Intern_Wettkampfdaten!$B$3,"Y"),"") | T11: =IF($G11>0,Intern_Wettkampfdaten!$B$30,0)+IF($H11>0,Intern_Wettkampfdaten!$B$24,0)+IF($J11="ja",Intern_Wettkampfdaten!$B$25,0)+IF($L11>0,Intern_Wettkampfdaten!$B$26,0)+IF($N11>0,Intern_Wettkampfdaten!$B$27,0)-IF($O11="ja",Intern_Wettkampfdaten!$B$29,0)+IF($Q11>0,Intern_Wettkampfdaten!$B$28,0)-IF($R11="ja",Intern_Wettkampfdaten!$B$29,0) -> 0 | W11: =IF(COUNTA(B11:E11,J11:S11,U11:V11)=0,"",IF(OR(COUNTBLANK(B11:E11)>0,COUNTA(J11,L11,N11,Q11)<1,AND(ISBLANK(J11),NOT(ISBLANK(K11))),AND(ISBLANK(L11),NOT(ISBLANK(M11))),AND(ISBLANK(N11),NOT(ISBLANK(P11))),AND(ISBLANK(Q11),NOT(ISBLANK(S11))),COUNTA(U11:V11)=1),"ERROR","OKAY")) | X11: =IF(J11="ja",Intern_Wettkampfdaten!$B$25,0)+IF(L11>0,Intern_Wettkampfdaten!$B$26,0)+IF(N11>0,Intern_Wettkampfdaten!$B$27,0)+IF(Q11>0,Intern_Wettkampfdaten!$B$28,0)+IF(R11="ja",Intern_Wettkampfdaten!$B$29,0) -> 0 | Y11: =COUNTA(J11,L11,N11,Q11) -> 0
A12: =IF(ISBLANK(B12)=FALSE(),COUNT(A$8:A11)+1,"") | F12: =IF(ISBLANK(E12)=FALSE(),DATEDIF(E12,Intern_Wettkampfdaten!$B$3,"Y"),"") | T12: =IF($G12>0,Intern_Wettkampfdaten!$B$30,0)+IF($H12>0,Intern_Wettkampfdaten!$B$24,0)+IF($J12="ja",Intern_Wettkampfdaten!$B$25,0)+IF($L12>0,Intern_Wettkampfdaten!$B$26,0)+IF($N12>0,Intern_Wettkampfdaten!$B$27,0)-IF($O12="ja",Intern_Wettkampfdaten!$B$29,0)+IF($Q12>0,Intern_Wettkampfdaten!$B$28,0)-IF($R12="ja",Intern_Wettkampfdaten!$B$29,0) -> 0 | W12: =IF(COUNTA(B12:E12,J12:S12,U12:V12)=0,"",IF(OR(COUNTBLANK(B12:E12)>0,COUNTA(J12,L12,N12,Q12)<1,AND(ISBLANK(J12),NOT(ISBLANK(K12))),AND(ISBLANK(L12),NOT(ISBLANK(M12))),AND(ISBLANK(N12),NOT(ISBLANK(P12))),AND(ISBLANK(Q12),NOT(ISBLANK(S12))),COUNTA(U12:V12)=1),"ERROR","OKAY")) | X12: =IF(J12="ja",Intern_Wettkampfdaten!$B$25,0)+IF(L12>0,Intern_Wettkampfdaten!$B$26,0)+IF(N12>0,Intern_Wettkampfdaten!$B$27,0)+IF(Q12>0,Intern_Wettkampfdaten!$B$28,0)+IF(R12="ja",Intern_Wettkampfdaten!$B$29,0) -> 0 | Y12: =COUNTA(J12,L12,N12,Q12) -> 0
A13: =IF(ISBLANK(B13)=FALSE(),COUNT(A$8:A12)+1,"") | F13: =IF(ISBLANK(E13)=FALSE(),DATEDIF(E13,Intern_Wettkampfdaten!$B$3,"Y"),"") | T13: =IF($G13>0,Intern_Wettkampfdaten!$B$30,0)+IF($H13>0,Intern_Wettkampfdaten!$B$24,0)+IF($J13="ja",Intern_Wettkampfdaten!$B$25,0)+IF($L13>0,Intern_Wettkampfdaten!$B$26,0)+IF($N13>0,Intern_Wettkampfdaten!$B$27,0)-IF($O13="ja",Intern_Wettkampfdaten!$B$29,0)+IF($Q13>0,Intern_Wettkampfdaten!$B$28,0)-IF($R13="ja",Intern_Wettkampfdaten!$B$29,0) -> 0 | W13: =IF(COUNTA(B13:E13,J13:S13,U13:V13)=0,"",IF(OR(COUNTBLANK(B13:E13)>0,COUNTA(J13,L13,N13,Q13)<1,AND(ISBLANK(J13),NOT(ISBLANK(K13))),AND(ISBLANK(L13),NOT(ISBLANK(M13))),AND(ISBLANK(N13),NOT(ISBLANK(P13))),AND(ISBLANK(Q13),NOT(ISBLANK(S13))),COUNTA(U13:V13)=1),"ERROR","OKAY")) | X13: =IF(J13="ja",Intern_Wettkampfdaten!$B$25,0)+IF(L13>0,Intern_Wettkampfdaten!$B$26,0)+IF(N13>0,Intern_Wettkampfdaten!$B$27,0)+IF(Q13>0,Intern_Wettkampfdaten!$B$28,0)+IF(R13="ja",Intern_Wettkampfdaten!$B$29,0) -> 0 | Y13: =COUNTA(J13,L13,N13,Q13) -> 0
A14: =IF(ISBLANK(B14)=FALSE(),COUNT(A$8:A13)+1,"") | F14: =IF(ISBLANK(E14)=FALSE(),DATEDIF(E14,Intern_Wettkampfdaten!$B$3,"Y"),"") | T14: =IF($G14>0,Intern_Wettkampfdaten!$B$30,0)+IF($H14>0,Intern_Wettkampfdaten!$B$24,0)+IF($J14="ja",Intern_Wettkampfdaten!$B$25,0)+IF($L14>0,Intern_Wettkampfdaten!$B$26,0)+IF($N14>0,Intern_Wettkampfdaten!$B$27,0)-IF($O14="ja",Intern_Wettkampfdaten!$B$29,0)+IF($Q14>0,Intern_Wettkampfdaten!$B$28,0)-IF($R14="ja",Intern_Wettkampfdaten!$B$29,0) -> 0 | W14: =IF(COUNTA(B14:E14,J14:S14,U14:V14)=0,"",IF(OR(COUNTBLANK(B14:E14)>0,COUNTA(J14,L14,N14,Q14)<1,AND(ISBLANK(J14),NOT(ISBLANK(K14))),AND(ISBLANK(L14),NOT(ISBLANK(M14))),AND(ISBLANK(N14),NOT(ISBLANK(P14))),AND(ISBLANK(Q14),NOT(ISBLANK(S14))),COUNTA(U14:V14)=1),"ERROR","OKAY")) | X14: =IF(J14="ja",Intern_Wettkampfdaten!$B$25,0)+IF(L14>0,Intern_Wettkampfdaten!$B$26,0)+IF(N14>0,Intern_Wettkampfdaten!$B$27,0)+IF(Q14>0,Intern_Wettkampfdaten!$B$28,0)+IF(R14="ja",Intern_Wettkampfdaten!$B$29,0) -> 0 | Y14: =COUNTA(J14,L14,N14,Q14) -> 0
A15: =IF(ISBLANK(B15)=FALSE(),COUNT(A$8:A14)+1,"") | F15: =IF(ISBLANK(E15)=FALSE(),DATEDIF(E15,Intern_Wettkampfdaten!$B$3,"Y"),"") | T15: =IF($G15>0,Intern_Wettkampfdaten!$B$30,0)+IF($H15>0,Intern_Wettkampfdaten!$B$24,0)+IF($J15="ja",Intern_Wettkampfdaten!$B$25,0)+IF($L15>0,Intern_Wettkampfdaten!$B$26,0)+IF($N15>0,Intern_Wettkampfdaten!$B$27,0)-IF($O15="ja",Intern_Wettkampfdaten!$B$29,0)+IF($Q15>0,Intern_Wettkampfdaten!$B$28,0)-IF($R15="ja",Intern_Wettkampfdaten!$B$29,0) -> 0 | W15: =IF(COUNTA(B15:E15,J15:S15,U15:V15)=0,"",IF(OR(COUNTBLANK(B15:E15)>0,COUNTA(J15,L15,N15,Q15)<1,AND(ISBLANK(J15),NOT(ISBLANK(K15))),AND(ISBLANK(L15),NOT(ISBLANK(M15))),AND(ISBLANK(N15),NOT(ISBLANK(P15))),AND(ISBLANK(Q15),NOT(ISBLANK(S15))),COUNTA(U15:V15)=1),"ERROR","OKAY")) | X15: =IF(J15="ja",Intern_Wettkampfdaten!$B$25,0)+IF(L15>0,Intern_Wettkampfdaten!$B$26,0)+IF(N15>0,Intern_Wettkampfdaten!$B$27,0)+IF(Q15>0,Intern_Wettkampfdaten!$B$28,0)+IF(R15="ja",Intern_Wettkampfdaten!$B$29,0) -> 0 | Y15: =COUNTA(J15,L15,N15,Q15) -> 0
A16: =IF(ISBLANK(B16)=FALSE(),COUNT(A$8:A15)+1,"") | F16: =IF(ISBLANK(E16)=FALSE(),DATEDIF(E16,Intern_Wettkampfdaten!$B$3,"Y"),"") | T16: =IF($G16>0,Intern_Wettkampfdaten!$B$30,0)+IF($H16>0,Intern_Wettkampfdaten!$B$24,0)+IF($J16="ja",Intern_Wettkampfdaten!$B$25,0)+IF($L16>0,Intern_Wettkampfdaten!$B$26,0)+IF($N16>0,Intern_Wettkampfdaten!$B$27,0)-IF($O16="ja",Intern_Wettkampfdaten!$B$29,0)+IF($Q16>0,Intern_Wettkampfdaten!$B$28,0)-IF($R16="ja",Intern_Wettkampfdaten!$B$29,0) -> 0 | W16: =IF(COUNTA(B16:E16,J16:S16,U16:V16)=0,"",IF(OR(COUNTBLANK(B16:E16)>0,COUNTA(J16,L16,N16,Q16)<1,AND(ISBLANK(J16),NOT(ISBLANK(K16))),AND(ISBLANK(L16),NOT(ISBLANK(M16))),AND(ISBLANK(N16),NOT(ISBLANK(P16))),AND(ISBLANK(Q16),NOT(ISBLANK(S16))),COUNTA(U16:V16)=1),"ERROR","OKAY")) | X16: =IF(J16="ja",Intern_Wettkampfdaten!$B$25,0)+IF(L16>0,Intern_Wettkampfdaten!$B$26,0)+IF(N16>0,Intern_Wettkampfdaten!$B$27,0)+IF(Q16>0,Intern_Wettkampfdaten!$B$28,0)+IF(R16="ja",Intern_Wettkampfdaten!$B$29,0) -> 0 | Y16: =COUNTA(J16,L16,N16,Q16) -> 0
A17: =IF(ISBLANK(B17)=FALSE(),COUNT(A$8:A16)+1,"") | F17: =IF(ISBLANK(E17)=FALSE(),DATEDIF(E17,Intern_Wettkampfdaten!$B$3,"Y"),"") | T17: =IF($G17>0,Intern_Wettkampfdaten!$B$30,0)+IF($H17>0,Intern_Wettkampfdaten!$B$24,0)+IF($J17="ja",Intern_Wettkampfdaten!$B$25,0)+IF($L17>0,Intern_Wettkampfdaten!$B$26,0)+IF($N17>0,Intern_Wettkampfdaten!$B$27,0)-IF($O17="ja",Intern_Wettkampfdaten!$B$29,0)+IF($Q17>0,Intern_Wettkampfdaten!$B$28,0)-IF($R17="ja",Intern_Wettkampfdaten!$B$29,0) -> 0 | W17: =IF(COUNTA(B17:E17,J17:S17,U17:V17)=0,"",IF(OR(COUNTBLANK(B17:E17)>0,COUNTA(J17,L17,N17,Q17)<1,AND(ISBLANK(J17),NOT(ISBLANK(K17))),AND(ISBLANK(L17),NOT(ISBLANK(M17))),AND(ISBLANK(N17),NOT(ISBLANK(P17))),AND(ISBLANK(Q17),NOT(ISBLANK(S17))),COUNTA(U17:V17)=1),"ERROR","OKAY")) | X17: =IF(J17="ja",Intern_Wettkampfdaten!$B$25,0)+IF(L17>0,Intern_Wettkampfdaten!$B$26,0)+IF(N17>0,Intern_Wettkampfdaten!$B$27,0)+IF(Q17>0,Intern_Wettkampfdaten!$B$28,0)+IF(R17="ja",Intern_Wettkampfdaten!$B$29,0) -> 0 | Y17: =COUNTA(J17,L17,N17,Q17) -> 0
A18: =IF(ISBLANK(B18)=FALSE(),COUNT(A$8:A17)+1,"") | F18: =IF(ISBLANK(E18)=FALSE(),DATEDIF(E18,Intern_Wettkampfdaten!$B$3,"Y"),"") | T18: =IF($G18>0,Intern_Wettkampfdaten!$B$30,0)+IF($H18>0,Intern_Wettkampfdaten!$B$24,0)+IF($J18="ja",Intern_Wettkampfdaten!$B$25,0)+IF($L18>0,Intern_Wettkampfdaten!$B$26,0)+IF($N18>0,Intern_Wettkampfdaten!$B$27,0)-IF($O18="ja",Intern_Wettkampfdaten!$B$29,0)+IF($Q18>0,Intern_Wettkampfdaten!$B$28,0)-IF($R18="ja",Intern_Wettkampfdaten!$B$29,0) -> 0 | W18: =IF(COUNTA(B18:E18,J18:S18,U18:V18)=0,"",IF(OR(COUNTBLANK(B18:E18)>0,COUNTA(J18,L18,N18,Q18)<1,AND(ISBLANK(J18),NOT(ISBLANK(K18))),AND(ISBLANK(L18),NOT(ISBLANK(M18))),AND(ISBLANK(N18),NOT(ISBLANK(P18))),AND(ISBLANK(Q18),NOT(ISBLANK(S18))),COUNTA(U18:V18)=1),"ERROR","OKAY")) | X18: =IF(J18="ja",Intern_Wettkampfdaten!$B$25,0)+IF(L18>0,Intern_Wettkampfdaten!$B$26,0)+IF(N18>0,Intern_Wettkampfdaten!$B$27,0)+IF(Q18>0,Intern_Wettkampfdaten!$B$28,0)+IF(R18="ja",Intern_Wettkampfdaten!$B$29,0) -> 0 | Y18: =COUNTA(J18,L18,N18,Q18) -> 0
A19: =IF(ISBLANK(B19)=FALSE(),COUNT(A$8:A18)+1,"") | F19: =IF(ISBLANK(E19)=FALSE(),DATEDIF(E19,Intern_Wettkampfdaten!$B$3,"Y"),"") | T19: =IF($G19>0,Intern_Wettkampfdaten!$B$30,0)+IF($H19>0,Intern_Wettkampfdaten!$B$24,0)+IF($J19="ja",Intern_Wettkampfdaten!$B$25,0)+IF($L19>0,Intern_Wettkampfdaten!$B$26,0)+IF($N19>0,Intern_Wettkampfdaten!$B$27,0)-IF($O19="ja",Intern_Wettkampfdaten!$B$29,0)+IF($Q19>0,Intern_Wettkampfdaten!$B$28,0)-IF($R19="ja",Intern_Wettkampfdaten!$B$29,0) -> 0 | W19: =IF(COUNTA(B19:E19,J19:S19,U19:V19)=0,"",IF(OR(COUNTBLANK(B19:E19)>0,COUNTA(J19,L19,N19,Q19)<1,AND(ISBLANK(J19),NOT(ISBLANK(K19))),AND(ISBLANK(L19),NOT(ISBLANK(M19))),AND(ISBLANK(N19),NOT(ISBLANK(P19))),AND(ISBLANK(Q19),NOT(ISBLANK(S19))),COUNTA(U19:V19)=1),"ERROR","OKAY")) | X19: =IF(J19="ja",Intern_Wettkampfdaten!$B$25,0)+IF(L19>0,Intern_Wettkampfdaten!$B$26,0)+IF(N19>0,Intern_Wettkampfdaten!$B$27,0)+IF(Q19>0,Intern_Wettkampfdaten!$B$28,0)+IF(R19="ja",Intern_Wettkampfdaten!$B$29,0) -> 0 | Y19: =COUNTA(J19,L19,N19,Q19) -> 0
A20: =IF(ISBLANK(B20)=FALSE(),COUNT(A$8:A19)+1,"") | F20: =IF(ISBLANK(E20)=FALSE(),DATEDIF(E20,Intern_Wettkampfdaten!$B$3,"Y"),"") | T20: =IF($G20>0,Intern_Wettkampfdaten!$B$30,0)+IF($H20>0,Intern_Wettkampfdaten!$B$24,0)+IF($J20="ja",Intern_Wettkampfdaten!$B$25,0)+IF($L20>0,Intern_Wettkampfdaten!$B$26,0)+IF($N20>0,Intern_Wettkampfdaten!$B$27,0)-IF($O20="ja",Intern_Wettkampfdaten!$B$29,0)+IF($Q20>0,Intern_Wettkampfdaten!$B$28,0)-IF($R20="ja",Intern_Wettkampfdaten!$B$29,0) -> 0 | W20: =IF(COUNTA(B20:E20,J20:S20,U20:V20)=0,"",IF(OR(COUNTBLANK(B20:E20)>0,COUNTA(J20,L20,N20,Q20)<1,AND(ISBLANK(J20),NOT(ISBLANK(K20))),AND(ISBLANK(L20),NOT(ISBLANK(M20))),AND(ISBLANK(N20),NOT(ISBLANK(P20))),AND(ISBLANK(Q20),NOT(ISBLANK(S20))),COUNTA(U20:V20)=1),"ERROR","OKAY")) | X20: =IF(J20="ja",Intern_Wettkampfdaten!$B$25,0)+IF(L20>0,Intern_Wettkampfdaten!$B$26,0)+IF(N20>0,Intern_Wettkampfdaten!$B$27,0)+IF(Q20>0,Intern_Wettkampfdaten!$B$28,0)+IF(R20="ja",Intern_Wettkampfdaten!$B$29,0) -> 0 | Y20: =COUNTA(J20,L20,N20,Q20) -> 0
A21: =IF(ISBLANK(B21)=FALSE(),COUNT(A$8:A20)+1,"") | F21: =IF(ISBLANK(E21)=FALSE(),DATEDIF(E21,Intern_Wettkampfdaten!$B$3,"Y"),"") | T21: =IF($G21>0,Intern_Wettkampfdaten!$B$30,0)+IF($H21>0,Intern_Wettkampfdaten!$B$24,0)+IF($J21="ja",Intern_Wettkampfdaten!$B$25,0)+IF($L21>0,Intern_Wettkampfdaten!$B$26,0)+IF($N21>0,Intern_Wettkampfdaten!$B$27,0)-IF($O21="ja",Intern_Wettkampfdaten!$B$29,0)+IF($Q21>0,Intern_Wettkampfdaten!$B$28,0)-IF($R21="ja",Intern_Wettkampfdaten!$B$29,0) -> 0 | W21: =IF(COUNTA(B21:E21,J21:S21,U21:V21)=0,"",IF(OR(COUNTBLANK(B21:E21)>0,COUNTA(J21,L21,N21,Q21)<1,AND(ISBLANK(J21),NOT(ISBLANK(K21))),AND(ISBLANK(L21),NOT(ISBLANK(M21))),AND(ISBLANK(N21),NOT(ISBLANK(P21))),AND(ISBLANK(Q21),NOT(ISBLANK(S21))),COUNTA(U21:V21)=1),"ERROR","OKAY")) | X21: =IF(J21="ja",Intern_Wettkampfdaten!$B$25,0)+IF(L21>0,Intern_Wettkampfdaten!$B$26,0)+IF(N21>0,Intern_Wettkampfdaten!$B$27,0)+IF(Q21>0,Intern_Wettkampfdaten!$B$28,0)+IF(R21="ja",Intern_Wettkampfdaten!$B$29,0) -> 0 | Y21: =COUNTA(J21,L21,N21,Q21) -> 0
... A57: =IF(ISBLANK(B57)=FALSE(),COUNT(A$8:A56)+1,"") | F57: =IF(ISBLANK(E57)=FALSE(),DATEDIF(E57,Intern_Wettkampfdaten!$B$3,"Y"),"") | T57: =IF($G57>0,Intern_Wettkampfdaten!$B$30,0)+IF($H57>0,Intern_Wettkampfdaten!$B$24,0)+IF($J57="ja",Intern_Wettkampfdaten!$B$25,0)+IF($L57>0,Intern_Wettkampfdaten!$B$26,0)+IF($N57>0,Intern_Wettkampfdaten!$B$27,0)-IF($O57="ja",Intern_Wettkampfdaten!$B$29,0)+IF($Q57>0,Intern_Wettkampfdaten!$B$28,0)-IF($R57="ja",Intern_Wettkampfdaten!$B$29,0) -> 0 | W57: =IF(COUNTA(B57:E57,J57:S57,U57:V57)=0,"",IF(OR(COUNTBLANK(B57:E57)>0,COUNTA(J57,L57,N57,Q57)<1,AND(ISBLANK(J57),NOT(ISBLANK(K57))),AND(ISBLANK(L57),NOT(ISBLANK(M57))),AND(ISBLANK(N57),NOT(ISBLANK(P57))),AND(ISBLANK(Q57),NOT(ISBLANK(S57))),COUNTA(U57:V57)=1),"ERROR","OKAY")) | X57: =IF(J57="ja",Intern_Wettkampfdaten!$B$25,0)+IF(L57>0,Intern_Wettkampfdaten!$B$26,0)+IF(N57>0,Intern_Wettkampfdaten!$B$27,0)+IF(Q57>0,Intern_Wettkampfdaten!$B$28,0)+IF(R57="ja",Intern_Wettkampfdaten!$B$29,0) -> 0 | Y57: =COUNTA(J57,L57,N57,Q57) -> 0
J59: =COUNTA(J8:J57) -> 0 | L59: =SUM(IF(FREQUENCY(L8:L57,L8:L57)>0,1)) -> 0 | N59: {=SUM(IF(FREQUENCY(IF(LEN(N8:N57)>0,MATCH(N8:N57,N8:N57,0),""),IF(LEN(N8:N57)>0,MATCH(N8:N57,N8:N57,0),""))>0,1))} -> 0 | Q59: {=SUM(IF(FREQUENCY(IF(LEN(Q8:Q57)>0,MATCH(Q8:Q57,Q8:Q57,0),""),IF(LEN(Q8:Q57)>0,MATCH(Q8:Q57,Q8:Q57,0),""))>0,1))} -> 0 | W59: =COUNTIF(W8:W57,"ERROR") -> 0 | X59: =IF(J59="ja",Intern_Wettkampfdaten!$B$25,0)+IF(L59>0,Intern_Wettkampfdaten!$B$26,0)+IF(N59>0,Intern_Wettkampfdaten!$B$27,0)+IF(Q59>0,Intern_Wettkampfdaten!$B$28,0)+IF(R59="ja",Intern_Wettkampfdaten!$B$29,0) -> 0 | Y59: =SUM(J59,L59,N59,Q59) -> 0

Sheet Meldung_Übernachtung
A2: =Intern_Wettkampfdaten!B1 -> Bayerische Zwergerlmeisterschaft
A3: =Intern_Wettkampfdaten!B6 -> 14.11.2026
A5: Fortlaufende Nr. | B5: Name | C5: Vorname | D5: Geschlecht [m/w] | E5: Geburtsdatum [TT/MM/JJJJ] | F5: Alter (am Wettkampftag)
G6: Aufsichtsperson (Bei Personen unter 18 Jahren muss eine Aufsichtsperson über 18 Jahre mit in der Turnhalle übernachten) | J6: Anzahl Küren / Starter
A7: 0 | B7: Mustermann | C7: Max | D7: m | E7: 38523 | F7: =IF(ISBLANK(E7)=FALSE(),DATEDIF(E7,Intern_Wettkampfdaten!$B$3,"Y"),"") -> 17 | G7: Erika Mustermann
A8: =IF(ISBLANK(B8)=FALSE(),1,"") | F8: =IF(ISBLANK(E8)=FALSE(),DATEDIF(E8,Intern_Wettkampfdaten!$B$3,"Y"),"") | I8: =IF(J8*15=0,15,J8*15) -> #VALUE!
A9: =IF(ISBLANK(B9)=FALSE(),COUNT(A8)+1,"") | F9: =IF(ISBLANK(E9)=FALSE(),DATEDIF(E9,Intern_Wettkampfdaten!$B$3,"Y"),"") | I9: =IF(J9*15=0,15,J9*15) -> #VALUE!
A10: =IF(ISBLANK(B10)=FALSE(),COUNT(A$8:A9)+1,"") | F10: =IF(ISBLANK(E10)=FALSE(),DATEDIF(E10,Intern_Wettkampfdaten!$B$3,"Y"),"") | I10: =IF(J10*15=0,15,J10*15) -> #VALUE!
A11: =IF(ISBLANK(B11)=FALSE(),COUNT(A$8:A10)+1,"") | F11: =IF(ISBLANK(E11)=FALSE(),DATEDIF(E11,Intern_Wettkampfdaten!$B$3,"Y"),"") | I11: =IF(J11*15=0,15,J11*15) -> #VALUE!
A12: =IF(ISBLANK(B12)=FALSE(),COUNT(A$8:A11)+1,"") | F12: =IF(ISBLANK(E12)=FALSE(),DATEDIF(E12,Intern_Wettkampfdaten!$B$3,"Y"),"") | I12: =IF(J12*15=0,15,J12*15) -> #VALUE!
A13: =IF(ISBLANK(B13)=FALSE(),COUNT(A$8:A12)+1,"") | F13: =IF(ISBLANK(E13)=FALSE(),DATEDIF(E13,Intern_Wettkampfdaten!$B$3,"Y"),"") | I13: =IF(J13*15=0,15,J13*15) -> #VALUE!
A14: =IF(ISBLANK(B14)=FALSE(),COUNT(A$8:A13)+1,"") | F14: =IF(ISBLANK(E14)=FALSE(),DATEDIF(E14,Intern_Wettkampfdaten!$B$3,"Y"),"") | I14: =IF(J14*15=0,15,J14*15) -> #VALUE!
A15: =IF(ISBLANK(B15)=FALSE(),COUNT(A$8:A14)+1,"") | F15: =IF(ISBLANK(E15)=FALSE(),DATEDIF(E15,Intern_Wettkampfdaten!$B$3,"Y"),"") | I15: =IF(J15*15=0,15,J15*15) -> #VALUE!
A16: =IF(ISBLANK(B16)=FALSE(),COUNT(A$8:A15)+1,"") | F16: =IF(ISBLANK(E16)=FALSE(),DATEDIF(E16,Intern_Wettkampfdaten!$B$3,"Y"),"") | I16: =IF(J16*15=0,15,J16*15) -> #VALUE!
A17: =IF(ISBLANK(B17)=FALSE(),COUNT(A$8:A16)+1,"") | F17: =IF(ISBLANK(E17)=FALSE(),DATEDIF(E17,Intern_Wettkampfdaten!$B$3,"Y"),"") | I17: =IF(J17*15=0,15,J17*15) -> #VALUE!
A18: =IF(ISBLANK(B18)=FALSE(),COUNT(A$8:A17)+1,"") | F18: =IF(ISBLANK(E18)=FALSE(),DATEDIF(E18,Intern_Wettkampfdaten!$B$3,"Y"),"") | I18: =IF(J18*15=0,15,J18*15) -> #VALUE!
A19: =IF(ISBLANK(B19)=FALSE(),COUNT(A$8:A18)+1,"") | F19: =IF(ISBLANK(E19)=FALSE(),DATEDIF(E19,Intern_Wettkampfdaten!$B$3,"Y"),"") | I19: =IF(J19*15=0,15,J19*15) -> #VALUE!
A20: =IF(ISBLANK(B20)=FALSE(),COUNT(A$8:A19)+1,"") | F20: =IF(ISBLANK(E20)=FALSE(),DATEDIF(E20,Intern_Wettkampfdaten!$B$3,"Y"),"") | I20: =IF(J20*15=0,15,J20*15) -> #VALUE!
A21: =IF(ISBLANK(B21)=FALSE(),COUNT(A$8:A20)+1,"") | F21: =IF(ISBLANK(E21)=FALSE(),DATEDIF(E21,Intern_Wettkampfdaten!$B$3,"Y"),"") | I21: =IF(J21*15=0,15,J21*15) -> #VALUE!
... A57: =IF(ISBLANK(B57)=FALSE(),COUNT(A$8:A56)+1,"") | F57: =IF(ISBLANK(E57)=FALSE(),DATEDIF(E57,Intern_Wettkampfdaten!$B$3,"Y"),"") | I57: =IF(J57*15=0,15,J57*15) -> #VALUE!
H59: =COUNTIF(H8:H57,"ERROR") -> 0

Sheet Meldung_Jury
A2: =Intern_Wettkampfdaten!B1 -> Bayerische Zwergerlmeisterschaft
A3: =Intern_Wettkampfdaten!B6 -> 14.11.2026
A5: Juroren und Juryneulinge mit Juryausbildung können sich gerne zum werten in die Tabelle eintragen. Wer gerne bei einem erfahrenem Juror über die Schulter schauen möchte kann dies in die Anmerkungen eintragen. Wir versuchen erste Werterfahrungen zu ermöglichen und benötigte Hilfestellung zu geben. Jeder angemeldete Juror hilft uns einen reibungslosen Ablauf der Zwergerlmeisterschaft zu gewährleisten. Danke für eure Unterstützung! Personen ohne Juryausbildung können sich zum Abstiege zählen in die Liste eintragen. Bitte auswählen, in welchem Bereich der entsprechende Juror werten kann: T = Technik, P = Performance, A = Abstiege Die Wertung erfolgt mit Computersystem. Juroren werden gebeten ihre eigenen Geräte (Laptop / Tablet) mitzubringen. Leihgeräte können leider nicht gestellt werden.
A6: Fortlaufende Nr. | B6: Name | C6: Vorname | D6: Juryasubildung [ja/leer] | E6: Geburtsdatum [TT.MM.JJJJ] | F6: Alter (am Wettkampftag) | R6: Gruppenküren | X6: Anmerkungen (optional) | Z6: Anzahl Meldungen | AA6: =Meldung_Teilnehmer!Y59 -> 0
G7: Standard Skill | H7: Einzelkür U9 | I7: Einzelkür U11 | J7: Einzelkür U13 | K7: Einzelkür U15 | L7: Einzelkür 15+ | M7: Paarkür U9 | N7: Paarkür U11 | O7: Paarkür U13 | P7: Paarkür U15 | Q7: Paarkür 15+ | R7: Kleingruppe U11 | S7: Kleingruppe U15 | T7: Kleingruppe 15+ | U7: Großgruppe U11 | V7: Großgruppe U15 | W7: Großgruppe 15+ | Z7: Anzahl Juryeinsätze | AA7: =ROUNDUP(AA6/2,0)*4 -> 0
G8: T/P/A | H8: T/P/A | I8: T/P/A | J8: T/P/A | K8: T/P/A | L8: T/P/A | M8: T/P/A | N8: T/P/A | O8: T/P/A | P8: T/P/A | Q8: T/P/A | R8: T/P/A | S8: T/P/A | T8: T/P/A | U8: T/P/A | V8: T/P/A | W8: T/P/A | Z8: Anzahl empfohlene Judges | AA8: =ROUNDUP(AA6/4,0) -> 0
A9: 0 | B9: Mustermann | C9: Max | E9: 36697 | F9: =IF(ISBLANK(E9)=FALSE(),DATEDIF(E9,Intern_Wettkampfdaten!$B$3,"Y"),"") -> 22 | J9: T/A | L9: T/A | P9: T/A | Q9: T/A | U9: T/A | V9: T/A | W9: T/A
A10: =IF(AA8>0,1,IF(ISBLANK(B10)=FALSE(),1,"")) | F10: =IF(ISBLANK(E10)=FALSE(),DATEDIF(E10,Intern_Wettkampfdaten!$B$3,"Y"),"") | Y10: =IF(AND(A10="",COUNTA(B10:E10,G10:W10)<1),"",IF(OR(COUNTA(B10:E10)<3,COUNTA(G10:W10)<1,F10<16),"ERROR","OKAY")) | AA10: =COUNTA(G10:W10)+COUNTA(J10:L10)+COUNTA(P10:Q10) -> 0
A11: =IF(Y8>1,2,IF(ISBLANK(B11)=FALSE(),COUNT(A10)+1,"")) | F11: =IF(ISBLANK(E11)=FALSE(),DATEDIF(E11,Intern_Wettkampfdaten!$B$3,"Y"),"") | Y11: =IF(AND(A11="",COUNTA(B11:E11,G11:W11)<1),"",IF(OR(COUNTA(B11:E11)<3,COUNTA(G11:W11)<1),"ERROR","OKAY")) | AA11: =COUNTA(G11:W11)+COUNTA(J11:L11)+COUNTA(P11:Q11) -> 0
A12: =IF(Y8>2,3,IF(ISBLANK(B12)=FALSE(),COUNT(A$10:A11)+1,"")) | F12: =IF(ISBLANK(E12)=FALSE(),DATEDIF(E12,Intern_Wettkampfdaten!$B$3,"Y"),"") | Y12: =IF(AND(A12="",COUNTA(B12:E12,G12:W12)<1),"",IF(OR(COUNTA(B12:E12)<3,COUNTA(G12:W12)<1),"ERROR","OKAY")) | AA12: =COUNTA(G12:W12)+COUNTA(J12:L12)+COUNTA(P12:Q12) -> 0
A13: =IF(Y8>3,4,IF(ISBLANK(B13)=FALSE(),COUNT(A$10:A12)+1,"")) | F13: =IF(ISBLANK(E13)=FALSE(),DATEDIF(E13,Intern_Wettkampfdaten!$B$3,"Y"),"") | Y13: =IF(AND(A13="",COUNTA(B13:E13,G13:W13)<1),"",IF(OR(COUNTA(B13:E13)<3,COUNTA(G13:W13)<1),"ERROR","OKAY")) | AA13: =COUNTA(G13:W13)+COUNTA(J13:L13)+COUNTA(P13:Q13) -> 0
A14: =IF(Y8>4,5,IF(ISBLANK(B14)=FALSE(),COUNT(A$10:A13)+1,"")) | F14: =IF(ISBLANK(E14)=FALSE(),DATEDIF(E14,Intern_Wettkampfdaten!$B$3,"Y"),"") | Y14: =IF(AND(A14="",COUNTA(B14:E14,G14:W14)<1),"",IF(OR(COUNTA(B14:E14)<3,COUNTA(G14:W14)<1),"ERROR","OKAY")) | AA14: =COUNTA(G14:W14)+COUNTA(J14:L14)+COUNTA(P14:Q14) -> 0
A15: =IF(ISBLANK(B15)=FALSE(),COUNT(A$10:A14)+1,"") | F15: =IF(ISBLANK(E15)=FALSE(),DATEDIF(E15,Intern_Wettkampfdaten!$B$3,"Y"),"") | Y15: =IF(AND(A15="",COUNTA(B15:E15,G15:W15)<1),"",IF(OR(COUNTA(B15:E15)<3,COUNTA(G15:W15)<1),"ERROR","OKAY")) | AA15: =COUNTA(G15:W15)+COUNTA(J15:L15)+COUNTA(P15:Q15) -> 0
A16: =IF(ISBLANK(B16)=FALSE(),COUNT(A$10:A15)+1,"") | F16: =IF(ISBLANK(E16)=FALSE(),DATEDIF(E16,Intern_Wettkampfdaten!$B$3,"Y"),"") | Y16: =IF(AND(A16="",COUNTA(B16:E16,G16:W16)<1),"",IF(OR(COUNTA(B16:E16)<3,COUNTA(G16:W16)<1),"ERROR","OKAY")) | AA16: =COUNTA(G16:W16)+COUNTA(J16:L16)+COUNTA(P16:Q16) -> 0
A17: =IF(ISBLANK(B17)=FALSE(),COUNT(A$10:A16)+1,"") | F17: =IF(ISBLANK(E17)=FALSE(),DATEDIF(E17,Intern_Wettkampfdaten!$B$3,"Y"),"") | Y17: =IF(AND(A17="",COUNTA(B17:E17,G17:W17)<1),"",IF(OR(COUNTA(B17:E17)<3,COUNTA(G17:W17)<1),"ERROR","OKAY")) | AA17: =COUNTA(G17:W17)+COUNTA(J17:L17)+COUNTA(P17:Q17) -> 0
A18: =IF(ISBLANK(B18)=FALSE(),COUNT(A$10:A17)+1,"") | F18: =IF(ISBLANK(E18)=FALSE(),DATEDIF(E18,Intern_Wettkampfdaten!$B$3,"Y"),"") | Y18: =IF(AND(A18="",COUNTA(B18:E18,G18:W18)<1),"",IF(OR(COUNTA(B18:E18)<3,COUNTA(G18:W18)<1),"ERROR","OKAY")) | AA18: =COUNTA(G18:W18)+COUNTA(J18:L18)+COUNTA(P18:Q18) -> 0
A19: =IF(ISBLANK(B19)=FALSE(),COUNT(A$10:A18)+1,"") | F19: =IF(ISBLANK(E19)=FALSE(),DATEDIF(E19,Intern_Wettkampfdaten!$B$3,"Y"),"") | Y19: =IF(AND(A19="",COUNTA(B19:E19,G19:W19)<1),"",IF(OR(COUNTA(B19:E19)<3,COUNTA(G19:W19)<1),"ERROR","OKAY")) | AA19: =COUNTA(G19:W19)+COUNTA(J19:L19)+COUNTA(P19:Q19) -> 0
A20: =IF(ISBLANK(B20)=FALSE(),COUNT(A$10:A19)+1,"") | F20: =IF(ISBLANK(E20)=FALSE(),DATEDIF(E20,Intern_Wettkampfdaten!$B$3,"Y"),"") | Y20: =IF(AND(A20="",COUNTA(B20:E20,G20:W20)<1),"",IF(OR(COUNTA(B20:E20)<3,COUNTA(G20:W20)<1),"ERROR","OKAY")) | AA20: =COUNTA(G20:W20)+COUNTA(J20:L20)+COUNTA(P20:Q20) -> 0
A21: =IF(ISBLANK(B21)=FALSE(),COUNT(A$10:A20)+1,"") | F21: =IF(ISBLANK(E21)=FALSE(),DATEDIF(E21,Intern_Wettkampfdaten!$B$3,"Y"),"") | Y21: =IF(AND(A21="",COUNTA(B21:E21,G21:W21)<1),"",IF(OR(COUNTA(B21:E21)<3,COUNTA(G21:W21)<1),"ERROR","OKAY")) | AA21: =COUNTA(G21:W21)+COUNTA(J21:L21)+COUNTA(P21:Q21) -> 0
A22: =IF(ISBLANK(B22)=FALSE(),COUNT(A$10:A21)+1,"") | F22: =IF(ISBLANK(E22)=FALSE(),DATEDIF(E22,Intern_Wettkampfdaten!$B$3,"Y"),"") | Y22: =IF(AND(A22="",COUNTA(B22:E22,G22:W22)<1),"",IF(OR(COUNTA(B22:E22)<3,COUNTA(G22:W22)<1),"ERROR","OKAY")) | AA22: =COUNTA(G22:W22)+COUNTA(J22:L22)+COUNTA(P22:Q22) -> 0
A23: =IF(ISBLANK(B23)=FALSE(),COUNT(A$10:A22)+1,"") | F23: =IF(ISBLANK(E23)=FALSE(),DATEDIF(E23,Intern_Wettkampfdaten!$B$3,"Y"),"") | Y23: =IF(AND(A23="",COUNTA(B23:E23,G23:W23)<1),"",IF(OR(COUNTA(B23:E23)<3,COUNTA(G23:W23)<1),"ERROR","OKAY")) | AA23: =COUNTA(G23:W23)+COUNTA(J23:L23)+COUNTA(P23:Q23) -> 0
A24: =IF(ISBLANK(B24)=FALSE(),COUNT(A$10:A23)+1,"") | F24: =IF(ISBLANK(E24)=FALSE(),DATEDIF(E24,Intern_Wettkampfdaten!$B$3,"Y"),"") | Y24: =IF(AND(A24="",COUNTA(B24:E24,G24:W24)<1),"",IF(OR(COUNTA(B24:E24)<3,COUNTA(G24:W24)<1),"ERROR","OKAY")) | AA24: =COUNTA(G24:W24)+COUNTA(J24:L24)+COUNTA(P24:Q24) -> 0
A25: =IF(ISBLANK(B25)=FALSE(),COUNT(A$10:A24)+1,"") | F25: =IF(ISBLANK(E25)=FALSE(),DATEDIF(E25,Intern_Wettkampfdaten!$B$3,"Y"),"") | Y25: =IF(AND(A25="",COUNTA(B25:E25,G25:W25)<1),"",IF(OR(COUNTA(B25:E25)<3,COUNTA(G25:W25)<1),"ERROR","OKAY")) | AA25: =COUNTA(G25:W25)+COUNTA(J25:L25)+COUNTA(P25:Q25) -> 0
A26: =IF(ISBLANK(B26)=FALSE(),COUNT(A$10:A25)+1,"") | F26: =IF(ISBLANK(E26)=FALSE(),DATEDIF(E26,Intern_Wettkampfdaten!$B$3,"Y"),"") | Y26: =IF(AND(A26="",COUNTA(B26:E26,G26:W26)<1),"",IF(OR(COUNTA(B26:E26)<3,COUNTA(G26:W26)<1),"ERROR","OKAY")) | AA26: =COUNTA(G26:W26)+COUNTA(J26:L26)+COUNTA(P26:Q26) -> 0
... A39: =IF(ISBLANK(B39)=FALSE(),COUNT(A$10:A38)+1,"") | F39: =IF(ISBLANK(E39)=FALSE(),DATEDIF(E39,Intern_Wettkampfdaten!$B$3,"Y"),"") | Y39: =IF(AND(A39="",COUNTA(B39:E39,G39:W39)<1),"",IF(OR(COUNTA(B39:E39)<3,COUNTA(G39:W39)<1),"ERROR","OKAY")) | AA39: =COUNTA(G39:W39)+COUNTA(J39:L39)+COUNTA(P39:Q39) -> 0
Y41: =COUNTIF(Y10:Y39,"ERROR") -> 0

Sheet Zusammenfassung
A2: =Intern_Wettkampfdaten!B1 -> Bayerische Zwergerlmeisterschaft
A3: =Intern_Wettkampfdaten!B6 -> 14.11.2026
B5: Zusammenfassung
B7: Verein | C7: =IF(allg__Daten!C7="","",allg__Daten!C7)
B8: Ansprechpartner | C8: =IF(allg__Daten!C8="","",allg__Daten!C8)
B9: Straße | C9: =IF(allg__Daten!C9="","",allg__Daten!C9)
B10: Wohnort | C10: =IF(allg__Daten!C10="","",allg__Daten!C10)
B11: E-Mail Adresse | C11: =IF(allg__Daten!C11="","",allg__Daten!C11)
B12: Telefon | C12: =IF(allg__Daten!C12="","",allg__Daten!C12)
B14: =IF(Meldung_Teilnehmer!W59=0,"","Die Meldung enthält noch Fehler!")
B16: =IF(Meldung_Jury!Y41=0,"","Die Jury-Meldung enthält noch Fehler!")
B17: =IF(#REF!="ERROR","Es fehlen noch "& (Meldung_Jury!AA7-#REF!) &" Juryeinsätze, wodurch " &#REF! &" € zusätzliche Gebühren entstehen!","") -> #REF!
B18: Summe Startgebühren:
C19: =IF(SUM(Meldung_Teilnehmer!T8:T57)=0,"",SUM(Meldung_Teilnehmer!T8:T57))
B21: Überweisung an:
B22: Kontoinhaber | C22: =Intern_Wettkampfdaten!B17 -> Einradverband Bayern e. V.
B23: IBAN | C23: =Intern_Wettkampfdaten!B18 -> DE95 7115 1020 0000 9348 10
B24: BIC | C24: =Intern_Wettkampfdaten!B19 -> BYLADEM1MDF
B25: Bank | C25: =Intern_Wettkampfdaten!B20 -> Sparkasse Altötting-Mühldorf
B27: Verwendungszweck | C27: =Intern_Wettkampfdaten!B21 -> Zergerl26 Startgebühr>Vereinsname<
B29: ="Überweisung bis spätestens zum "&TEXT(Intern_Wettkampfdaten!B22,"TT.MM.JJJJ") -> Überweisung bis spätestens zum 23.10.2026

Sheet Intern_Datenübernahme_CSV
A1: =IF(NOT(ISBLANK(Meldung_Teilnehmer!B8)),Meldung_Teilnehmer!B8&";"&Meldung_Teilnehmer!C8&";"&Meldung_Teilnehmer!D8&";"&TEXT(Meldung_Teilnehmer!E8,"JJJJ-MM-TT")&";;"&IF(ISBLANK(Meldung_Teilnehmer!U8),allg__Daten!C$7,Meldung_Teilnehmer!U8)&";EK;"&Meldung_Teilnehmer!J8&";"&Meldung_Teilnehmer!K8&";PK;"&Meldung_Teilnehmer!L8&";"&Meldung_Teilnehmer!M8&";KGK;"&Meldung_Teilnehmer!N8&";"&Meldung_Teilnehmer!O8&";"&Meldung_Teilnehmer!P8&";GGK;"&Meldung_Teilnehmer!Q8&";"&Meldung_Teilnehmer!R8&";"&Meldung_Teilnehmer!S8,"")
A2: =IF(NOT(ISBLANK(Meldung_Teilnehmer!B9)),Meldung_Teilnehmer!B9&";"&Meldung_Teilnehmer!C9&";"&Meldung_Teilnehmer!D9&";"&TEXT(Meldung_Teilnehmer!E9,"JJJJ-MM-TT")&";;"&IF(ISBLANK(Meldung_Teilnehmer!U9),allg__Daten!C$7,Meldung_Teilnehmer!U9)&";EK;"&Meldung_Teilnehmer!J9&";"&Meldung_Teilnehmer!K9&";PK;"&Meldung_Teilnehmer!L9&";"&Meldung_Teilnehmer!M9&";KGK;"&Meldung_Teilnehmer!N9&";"&Meldung_Teilnehmer!O9&";"&Meldung_Teilnehmer!P9&";GGK;"&Meldung_Teilnehmer!Q9&";"&Meldung_Teilnehmer!R9&";"&Meldung_Teilnehmer!S9,"")
A3: =IF(NOT(ISBLANK(Meldung_Teilnehmer!B10)),Meldung_Teilnehmer!B10&";"&Meldung_Teilnehmer!C10&";"&Meldung_Teilnehmer!D10&";"&TEXT(Meldung_Teilnehmer!E10,"JJJJ-MM-TT")&";;"&IF(ISBLANK(Meldung_Teilnehmer!U10),allg__Daten!C$7,Meldung_Teilnehmer!U10)&";EK;"&Meldung_Teilnehmer!J10&";"&Meldung_Teilnehmer!K10&";PK;"&Meldung_Teilnehmer!L10&";"&Meldung_Teilnehmer!M10&";KGK;"&Meldung_Teilnehmer!N10&";"&Meldung_Teilnehmer!O10&";"&Meldung_Teilnehmer!P10&";GGK;"&Meldung_Teilnehmer!Q10&";"&Meldung_Teilnehmer!R10&";"&Meldung_Teilnehmer!S10,"")
A4: =IF(NOT(ISBLANK(Meldung_Teilnehmer!B11)),Meldung_Teilnehmer!B11&";"&Meldung_Teilnehmer!C11&";"&Meldung_Teilnehmer!D11&";"&TEXT(Meldung_Teilnehmer!E11,"JJJJ-MM-TT")&";;"&IF(ISBLANK(Meldung_Teilnehmer!U11),allg__Daten!C$7,Meldung_Teilnehmer!U11)&";EK;"&Meldung_Teilnehmer!J11&";"&Meldung_Teilnehmer!K11&";PK;"&Meldung_Teilnehmer!L11&";"&Meldung_Teilnehmer!M11&";KGK;"&Meldung_Teilnehmer!N11&";"&Meldung_Teilnehmer!O11&";"&Meldung_Teilnehmer!P11&";GGK;"&Meldung_Teilnehmer!Q11&";"&Meldung_Teilnehmer!R11&";"&Meldung_Teilnehmer!S11,"")
A5: =IF(NOT(ISBLANK(Meldung_Teilnehmer!B12)),Meldung_Teilnehmer!B12&";"&Meldung_Teilnehmer!C12&";"&Meldung_Teilnehmer!D12&";"&TEXT(Meldung_Teilnehmer!E12,"JJJJ-MM-TT")&";;"&IF(ISBLANK(Meldung_Teilnehmer!U12),allg__Daten!C$7,Meldung_Teilnehmer!U12)&";EK;"&Meldung_Teilnehmer!J12&";"&Meldung_Teilnehmer!K12&";PK;"&Meldung_Teilnehmer!L12&";"&Meldung_Teilnehmer!M12&";KGK;"&Meldung_Teilnehmer!N12&";"&Meldung_Teilnehmer!O12&";"&Meldung_Teilnehmer!P12&";GGK;"&Meldung_Teilnehmer!Q12&";"&Meldung_Teilnehmer!R12&";"&Meldung_Teilnehmer!S12,"")
A6: =IF(NOT(ISBLANK(Meldung_Teilnehmer!B13)),Meldung_Teilnehmer!B13&";"&Meldung_Teilnehmer!C13&";"&Meldung_Teilnehmer!D13&";"&TEXT(Meldung_Teilnehmer!E13,"JJJJ-MM-TT")&";;"&IF(ISBLANK(Meldung_Teilnehmer!U13),allg__Daten!C$7,Meldung_Teilnehmer!U13)&";EK;"&Meldung_Teilnehmer!J13&";"&Meldung_Teilnehmer!K13&";PK;"&Meldung_Teilnehmer!L13&";"&Meldung_Teilnehmer!M13&";KGK;"&Meldung_Teilnehmer!N13&";"&Meldung_Teilnehmer!O13&";"&Meldung_Teilnehmer!P13&";GGK;"&Meldung_Teilnehmer!Q13&";"&Meldung_Teilnehmer!R13&";"&Meldung_Teilnehmer!S13,"")
A7: =IF(NOT(ISBLANK(Meldung_Teilnehmer!B14)),Meldung_Teilnehmer!B14&";"&Meldung_Teilnehmer!C14&";"&Meldung_Teilnehmer!D14&";"&TEXT(Meldung_Teilnehmer!E14,"JJJJ-MM-TT")&";;"&IF(ISBLANK(Meldung_Teilnehmer!U14),allg__Daten!C$7,Meldung_Teilnehmer!U14)&";EK;"&Meldung_Teilnehmer!J14&";"&Meldung_Teilnehmer!K14&";PK;"&Meldung_Teilnehmer!L14&";"&Meldung_Teilnehmer!M14&";KGK;"&Meldung_Teilnehmer!N14&";"&Meldung_Teilnehmer!O14&";"&Meldung_Teilnehmer!P14&";GGK;"&Meldung_Teilnehmer!Q14&";"&Meldung_Teilnehmer!R14&";"&Meldung_Teilnehmer!S14,"")
A8: =IF(NOT(ISBLANK(Meldung_Teilnehmer!B15)),Meldung_Teilnehmer!B15&";"&Meldung_Teilnehmer!C15&";"&Meldung_Teilnehmer!D15&";"&TEXT(Meldung_Teilnehmer!E15,"JJJJ-MM-TT")&";;"&IF(ISBLANK(Meldung_Teilnehmer!U15),allg__Daten!C$7,Meldung_Teilnehmer!U15)&";EK;"&Meldung_Teilnehmer!J15&";"&Meldung_Teilnehmer!K15&";PK;"&Meldung_Teilnehmer!L15&";"&Meldung_Teilnehmer!M15&";KGK;"&Meldung_Teilnehmer!N15&";"&Meldung_Teilnehmer!O15&";"&Meldung_Teilnehmer!P15&";GGK;"&Meldung_Teilnehmer!Q15&";"&Meldung_Teilnehmer!R15&";"&Meldung_Teilnehmer!S15,"")
A9: =IF(NOT(ISBLANK(Meldung_Teilnehmer!B16)),Meldung_Teilnehmer!B16&";"&Meldung_Teilnehmer!C16&";"&Meldung_Teilnehmer!D16&";"&TEXT(Meldung_Teilnehmer!E16,"JJJJ-MM-TT")&";;"&IF(ISBLANK(Meldung_Teilnehmer!U16),allg__Daten!C$7,Meldung_Teilnehmer!U16)&";EK;"&Meldung_Teilnehmer!J16&";"&Meldung_Teilnehmer!K16&";PK;"&Meldung_Teilnehmer!L16&";"&Meldung_Teilnehmer!M16&";KGK;"&Meldung_Teilnehmer!N16&";"&Meldung_Teilnehmer!O16&";"&Meldung_Teilnehmer!P16&";GGK;"&Meldung_Teilnehmer!Q16&";"&Meldung_Teilnehmer!R16&";"&Meldung_Teilnehmer!S16,"")
A10: =IF(NOT(ISBLANK(Meldung_Teilnehmer!B17)),Meldung_Teilnehmer!B17&";"&Meldung_Teilnehmer!C17&";"&Meldung_Teilnehmer!D17&";"&TEXT(Meldung_Teilnehmer!E17,"JJJJ-MM-TT")&";;"&IF(ISBLANK(Meldung_Teilnehmer!U17),allg__Daten!C$7,Meldung_Teilnehmer!U17)&";EK;"&Meldung_Teilnehmer!J17&";"&Meldung_Teilnehmer!K17&";PK;"&Meldung_Teilnehmer!L17&";"&Meldung_Teilnehmer!M17&";KGK;"&Meldung_Teilnehmer!N17&";"&Meldung_Teilnehmer!O17&";"&Meldung_Teilnehmer!P17&";GGK;"&Meldung_Teilnehmer!Q17&";"&Meldung_Teilnehmer!R17&";"&Meldung_Teilnehmer!S17,"")
A11: =IF(NOT(ISBLANK(Meldung_Teilnehmer!B18)),Meldung_Teilnehmer!B18&";"&Meldung_Teilnehmer!C18&";"&Meldung_Teilnehmer!D18&";"&TEXT(Meldung_Teilnehmer!E18,"JJJJ-MM-TT")&";;"&IF(ISBLANK(Meldung_Teilnehmer!U18),allg__Daten!C$7,Meldung_Teilnehmer!U18)&";EK;"&Meldung_Teilnehmer!J18&";"&Meldung_Teilnehmer!K18&";PK;"&Meldung_Teilnehmer!L18&";"&Meldung_Teilnehmer!M18&";KGK;"&Meldung_Teilnehmer!N18&";"&Meldung_Teilnehmer!O18&";"&Meldung_Teilnehmer!P18&";GGK;"&Meldung_Teilnehmer!Q18&";"&Meldung_Teilnehmer!R18&";"&Meldung_Teilnehmer!S18,"")
A12: =IF(NOT(ISBLANK(Meldung_Teilnehmer!B19)),Meldung_Teilnehmer!B19&";"&Meldung_Teilnehmer!C19&";"&Meldung_Teilnehmer!D19&";"&TEXT(Meldung_Teilnehmer!E19,"JJJJ-MM-TT")&";;"&IF(ISBLANK(Meldung_Teilnehmer!U19),allg__Daten!C$7,Meldung_Teilnehmer!U19)&";EK;"&Meldung_Teilnehmer!J19&";"&Meldung_Teilnehmer!K19&";PK;"&Meldung_Teilnehmer!L19&";"&Meldung_Teilnehmer!M19&";KGK;"&Meldung_Teilnehmer!N19&";"&Meldung_Teilnehmer!O19&";"&Meldung_Teilnehmer!P19&";GGK;"&Meldung_Teilnehmer!Q19&";"&Meldung_Teilnehmer!R19&";"&Meldung_Teilnehmer!S19,"")
... A50: =IF(NOT(ISBLANK(Meldung_Teilnehmer!B57)),Meldung_Teilnehmer!B57&";"&Meldung_Teilnehmer!C57&";"&Meldung_Teilnehmer!D57&";"&TEXT(Meldung_Teilnehmer!E57,"JJJJ-MM-TT")&";;"&IF(ISBLANK(Meldung_Teilnehmer!U57),allg__Daten!C$7,Meldung_Teilnehmer!U57)&";EK;"&Meldung_Teilnehmer!J57&";"&Meldung_Teilnehmer!K57&";PK;"&Meldung_Teilnehmer!L57&";"&Meldung_Teilnehmer!M57&";KGK;"&Meldung_Teilnehmer!N57&";"&Meldung_Teilnehmer!O57&";"&Meldung_Teilnehmer!P57&";GGK;"&Meldung_Teilnehmer!Q57&";"&Meldung_Teilnehmer!R57&";"&Meldung_Teilnehmer!S57,"")

Sheet Intern_Wettkampfdaten
A1: Wettkampfname | B1: Bayerische Zwergerlmeisterschaft
B2: Der Wettkampfname wird auf allen Tabellenblättern ganz oben angezeigt
A3: Startdatum | B3: 44878 | C3: =TEXT(B3,"TT.MM.JJJJ") -> 14.11.2026 | D3: =LEFT(C3,FIND(".",C3)-1) -> 14 | E3: =MID(C3,FIND(".",C3)+1,FIND(".",C3,FIND(".",C3)+1)-FIND(".",C3)-1) -> 11 | F3: =RIGHT(C3,FIND(".",C3)+1) -> 2026 | G3: =IF(OR(B3="DD.MM.YYYY",B3=""),0,IF(B3<TODAY(),1,0)) -> 0 | H3: =IF(G3=1,"Das Datum liegt in der Vergangenheit!","")
B4: Dieses Datum wird zur Berechnung des Alters am Wettkampftag verwendet!
A5: Enddatum | B5: 44878 | C5: =IF(B5<>"",TEXT(B5,"TT.MM.JJJJ"),"DD.MM.YYYY") -> 14.11.2026 | D5: =LEFT(C5,FIND(".",C5)-1) -> 14 | E5: =MID(C5,FIND(".",C5)+1,FIND(".",C5,FIND(".",C5)+1)-FIND(".",C5)-1) -> 11 | F5: =RIGHT(C5,FIND(".",C5)+1) -> 2026 | G5: =IF(OR(B5="DD.MM.YYYY",B5=""),0,IF(B5<TODAY(),1,IF(B5<B$3,2,0))) -> 0 | H5: =IF(G5=1,"Das Datum liegt in der Vergangenheit!",IF(G5=2,"Das Datum liegt vor dem Startdatum!",""))
A6: Datumsanzeige in den Tabellen | B6: =C6 -> 14.11.2026 | C6: =IF(F3=F5,IF(E3=E5,IF((D3=D5),C3,D3&". - "&C5),D3&"."&E3&". - "&C5),C3&" - "&C5) -> 14.11.2026
B7: Dieses Datum wird auf allen Tabellenblättern ganz oben angezeigt
A9: Daten für die Anmeldung - diese werden im Tabellenblatt "allg. Daten" angeziegt
A10: Meldegebühr | B10: 15,- € für die Teilnahme am Workshoptag 10,- € pro Standard Skill Teilnehmer 10,- € pro Einzelkür Teilnehmer 8,- € pro Paarkür Teilnehmer 6,- € pro Kleingruppenkür Teilnehmer 6,- € pro Großgruppenkür Teilnehmer 4,- € pro Gruppenkür Ersatzfahrer
A11: Meldeschluss | B11: 44856 | G11: =IF(OR(B11="DD.MM.YYYY",B11=""),0,IF(B11<TODAY(),1,IF(B11>B$3,3,0))) -> 0 | H11: =IF(G11=1,"Das Datum liegt in der Vergangenheit!",IF(G11=3,"Das Datum liegt nach dem Startdatum!",""))
A12: Meldeadresse | B12: freestyleanmeldung@gmx.de
A13: E-Mail Betreff | B13: Anmeldung Zwergerlmeisterschaft
B14: An den hier definierten Betreff wird automatisch der Vereinsname aus dem Tabellenblatt "allg. Daten" angehängt
A16: Daten für die Überweisung der Startgebühren - diese werden im Tabellenblatt "Zusammenfassung" angeziegt
A17: Kontoinhaber | B17: Einradverband Bayern e. V.
A18: IBAN | B18: DE95 7115 1020 0000 9348 10
A19: BIC | B19: BYLADEM1MDF
A20: Bank | B20: Sparkasse Altötting-Mühldorf
A21: Verwendungszweck | B21: Zergerl26 Startgebühr>Vereinsname<
A22: Überweisung bis | B22: 44856 | G22: =IF(OR(B22="DD.MM.YYYY",B22=""),0,IF(B22<TODAY(),1,IF(B22>B$3,3,0))) -> 0 | H22: =IF(G22=1,"Das Datum liegt in der Vergangenheit!",IF(G22=3,"Das Datum liegt nach dem Startdatum!",""))
A24: Meldegebühr Standard Skill | B24: 10
A25: Meldegebühr EK | B25: 10
A26: Meldegebühr PK | B26: 10
A27: Meldegebühr KG | B27: 8
A28: Meldegebühr GG | B28: 8
A29: Differenz Meldegebühr Ersatz | B29: 2
A30: Meldegebühr Workshop | B30: 15
